BEGIN:VCALENDAR
VERSION:2.0
PRODID:-//HUS - ECPv6.15.20//NONSGML v1.0//EN
CALSCALE:GREGORIAN
METHOD:PUBLISH
X-ORIGINAL-URL:https://huisartsenutrechtstad.nl
X-WR-CALDESC:Evenementen voor HUS
REFRESH-INTERVAL;VALUE=DURATION:PT1H
X-Robots-Tag:noindex
X-PUBLISHED-TTL:PT1H
BEGIN:VTIMEZONE
TZID:Europe/Amsterdam
BEGIN:DAYLIGHT
TZOFFSETFROM:+0100
TZOFFSETTO:+0200
TZNAME:CEST
DTSTART:20180325T010000
END:DAYLIGHT
BEGIN:STANDARD
TZOFFSETFROM:+0200
TZOFFSETTO:+0100
TZNAME:CET
DTSTART:20181028T010000
END:STANDARD
BEGIN:DAYLIGHT
TZOFFSETFROM:+0100
TZOFFSETTO:+0200
TZNAME:CEST
DTSTART:20190331T010000
END:DAYLIGHT
BEGIN:STANDARD
TZOFFSETFROM:+0200
TZOFFSETTO:+0100
TZNAME:CET
DTSTART:20191027T010000
END:STANDARD
BEGIN:DAYLIGHT
TZOFFSETFROM:+0100
TZOFFSETTO:+0200
TZNAME:CEST
DTSTART:20200329T010000
END:DAYLIGHT
BEGIN:STANDARD
TZOFFSETFROM:+0200
TZOFFSETTO:+0100
TZNAME:CET
DTSTART:20201025T010000
END:STANDARD
BEGIN:DAYLIGHT
TZOFFSETFROM:+0100
TZOFFSETTO:+0200
TZNAME:CEST
DTSTART:20210328T010000
END:DAYLIGHT
BEGIN:STANDARD
TZOFFSETFROM:+0200
TZOFFSETTO:+0100
TZNAME:CET
DTSTART:20211031T010000
END:STANDARD
BEGIN:DAYLIGHT
TZOFFSETFROM:+0100
TZOFFSETTO:+0200
TZNAME:CEST
DTSTART:20220327T010000
END:DAYLIGHT
BEGIN:STANDARD
TZOFFSETFROM:+0200
TZOFFSETTO:+0100
TZNAME:CET
DTSTART:20221030T010000
END:STANDARD
END:VTIMEZONE
BEGIN:VEVENT
DTSTART;TZID=Europe/Amsterdam:20210415T193000
DTEND;TZID=Europe/Amsterdam:20210415T210000
DTSTAMP:20260422T154935
CREATED:20210409T065947Z
LAST-MODIFIED:20210409T065947Z
UID:6754-1618515000-1618520400@huisartsenutrechtstad.nl
SUMMARY:Inzoomavond HUS governance
DESCRIPTION:Waarom een InZoomavond? \nTijdens de ALV van 9 februari jl. werd de governance van HUS besproken. Zie bijgaand document. Jullie gaven aan: “neem ons mee op de weg naar de nieuwe governance\, zodat we kennis kunnen nemen van de overwegingen en mee kunnen denken over de koers. Ook willen we graag in Jip en Janneke taal horen hoe die nieuwe organisatie eruit kan komen te zien.” \n  \nDat gaan we dus doen! \n  \nHoe ziet de avond eruit? \n  \n\nAftrap: Waarheen leidt de weg?\nWelk parcours is er tot nu toe gelopen\, welke beslissingen hebben we tot nu toe al genomen en welke beslissingen gaan we nog nemen??\nHoofdmoot: Wanneer we om ons heen kijken\, welke alternatieven zijn dan voorhanden?\nNaast de leden van de voorbereidingsgroep (Frank Smit\, Thomas van Ede\, Willem van der Kraan\, Arjen Greijdanus\, Mirjam de Zwart\, Gerard Hoogvliet en Karin Bokhove) zijn er twee gasten aanwezig die de discussie zullen voeden met hun ervaring:\n\n\nLinda Koeslag\, een in dit veld gepokt en gemazelde notaris. Zij schetst de mogelijke organisatievormen (en de vastlegging daarvan in statuten en reglementen) met hun voors en tegens.\nRaymond Wetzels\, voorzitter coöperatie Onze Huisartsen. Hij beschrijft het model dat zij hebben gekozen\, de transitie die zij hebben doorgemaakt en zijn ervaringen tot nu toe.\n\n\nWrap up: naar welke governance neigt de voorbereidingsgroep? Wanneer gaat de ALV daarover beslissen? En wat is dan de verdere tijdslijn?\n\n  \nHet wordt geen presentatiesessie\, we willen veel vragen en discussie. Het liefst ontvangen we jullie vragen van tevoren (dan kunnen we de antwoorden voorbereiden)\, maar je kunt ze natuurlijk ook tijdens de bijeenkomst stellen.
URL:https://huisartsenutrechtstad.nl/event/inzoomavond-hus-governance/
LOCATION:ZOOM
ORGANIZER;CN="Huisartsen Utrecht Stad":MAILTO:info@huisartsenutrechtstad.nl
END:VEVENT
BEGIN:VEVENT
DTSTART;TZID=Europe/Amsterdam:20210408T190000
DTEND;TZID=Europe/Amsterdam:20210408T211500
DTSTAMP:20260422T154935
CREATED:20210316T145713Z
LAST-MODIFIED:20210316T145807Z
UID:6632-1617908400-1617916500@huisartsenutrechtstad.nl
SUMMARY:Herhalingsmodule Caspir op 8 april - Verleng je Caspir certificaat
DESCRIPTION:Op donderdag 8 april organiseert de HUS Academie module 6 van de Caspir cursus\, online\, van 19.00 tot 21.15 uur. De theorie wordt opgefrist\, casuïstiek wordt besproken en er is ruimte voor vragen en knelpunten. Deelnemers sturen vooraf een eigen casus toe\, per e-mail. Deze casus wordt aan de hand van het stroomdiagram besproken. De beoordelaar of uitvoerder wordt gevraagd de klinische aspecten (met name anamnese) van de casus kort in te leiden. \nMeer informatie over de voorwaarden voor hercertificering vind je hier. De kosten voor HUS-leden die deelnemen aan het collectieve COPD-contract via HUS zijn € 62\,50 per deelnemer. Voor anderen zijn de kosten € 85\,00.\nMeld je aan via huizer@huisartsenutrechtstad.nl. Dit e-mailadres kun je ook gebruiken voor het insturen van je casus. De toegangslink ontvang je een paar dagen van tevoren.
URL:https://huisartsenutrechtstad.nl/event/herhalingsmodule-caspir-op-8-april-verleng-je-caspir-certificaat/
ORGANIZER;CN="HUS  Academie":MAILTO:academie@huisartsenutrechtstad.nl
END:VEVENT
BEGIN:VEVENT
DTSTART;TZID=Europe/Amsterdam:20210322T200000
DTEND;TZID=Europe/Amsterdam:20210401T210000
DTSTAMP:20260422T154935
CREATED:20210318T200256Z
LAST-MODIFIED:20210318T200657Z
UID:6657-1616443200-1617310800@huisartsenutrechtstad.nl
SUMMARY:Duoweken 2021
DESCRIPTION:Vorig jaar moesten de Duodagen vanwege corona op het laatste moment worden geannuleerd. Jammer\, want alles was klaar om er twee leuke dagen van te maken. We hebben inmiddels flink wat ervaring opgedaan met digitaal vergaderen en scholen. De commissie heeft daarom enkele ongebruikte workshops van vorig jaar van de plank gehaald en daarmee een online programma samengesteld. Geen Duodagen\, maar Duoweken waarin we op zes avonden van 20.00 tot 21.00 uur één workshop aanbieden voor huisartsen\, assistentes of huisartsen en assistentes samen. Je kunt per workshop inschrijven. Lees meer in dit programma. Voor leden van HUS en hun praktijkmedewerkers zijn er geen kosten aan verbonden. Accreditatie is aangevraagd. \nDoe mee en schrijf je in via deze link.
URL:https://huisartsenutrechtstad.nl/event/duoweken-2021/
ORGANIZER;CN="HUS  Academie":MAILTO:academie@huisartsenutrechtstad.nl
END:VEVENT
BEGIN:VEVENT
DTSTART;TZID=Europe/Amsterdam:20210315T183000
DTEND;TZID=Europe/Amsterdam:20210315T203000
DTSTAMP:20260422T154935
CREATED:20210212T111357Z
LAST-MODIFIED:20210212T111357Z
UID:6436-1615833000-1615840200@huisartsenutrechtstad.nl
SUMMARY:De ontregelde patiënt\, online casuïstiekbespreking
DESCRIPTION:Op maandag 15 maart a.s. organiseert de werkgroep Longen in samenwerking met de HUS Academie de casuïstiek-scholingsavond ‘De ontregelde patiënt’ via Zoom van 18.30 tot 20.30 uur. Deze avond is bestemd voor huisartsen\, praktijkondersteuners\, praktijk- en longverpleegkundigen. Voor meer info en aanmelden\, klik hier.
URL:https://huisartsenutrechtstad.nl/event/de-ontregelde-patient-online-casuistiekbespreking/
ORGANIZER;CN="HUS  Academie":MAILTO:academie@huisartsenutrechtstad.nl
END:VEVENT
BEGIN:VEVENT
DTSTART;TZID=Europe/Amsterdam:20210302T130000
DTEND;TZID=Europe/Amsterdam:20210302T140000
DTSTAMP:20260422T154935
CREATED:20210205T101027Z
LAST-MODIFIED:20210205T101027Z
UID:6397-1614690000-1614693600@huisartsenutrechtstad.nl
SUMMARY:Training VIP live
DESCRIPTION:
URL:https://huisartsenutrechtstad.nl/event/training-vip-live/
END:VEVENT
BEGIN:VEVENT
DTSTART;TZID=Europe/Amsterdam:20210209T200000
DTEND;TZID=Europe/Amsterdam:20210209T220000
DTSTAMP:20260422T154935
CREATED:20210205T100912Z
LAST-MODIFIED:20210205T100912Z
UID:6394-1612900800-1612908000@huisartsenutrechtstad.nl
SUMMARY:Algemene ledenvergadering
DESCRIPTION:
URL:https://huisartsenutrechtstad.nl/event/algemene-ledenvergadering/
LOCATION:ZOOM
END:VEVENT
BEGIN:VEVENT
DTSTART;TZID=Europe/Amsterdam:20190702T173000
DTEND;TZID=Europe/Amsterdam:20190702T210000
DTSTAMP:20260422T154935
CREATED:20190306T102201Z
LAST-MODIFIED:20190306T102201Z
UID:3821-1562088600-1562101200@huisartsenutrechtstad.nl
SUMMARY:Kenniscarrousel chronische zorg
DESCRIPTION:
URL:https://huisartsenutrechtstad.nl/event/kenniscarrousel-chronische-zorg/
CATEGORIES:Nascholing
ORGANIZER;CN="HUS Academie":MAILTO:academie@huisartsenutrechtstad.nl
END:VEVENT
BEGIN:VEVENT
DTSTART;TZID=Europe/Amsterdam:20190116T180000
DTEND;TZID=Europe/Amsterdam:20190116T203000
DTSTAMP:20260422T154935
CREATED:20190111T104058Z
LAST-MODIFIED:20190111T104820Z
UID:3749-1547661600-1547670600@huisartsenutrechtstad.nl
SUMMARY:Herhalingsmodule Caspir
DESCRIPTION:Op woensdag 16 januari 2019 organiseert de HUS Academie de herhalingsmodule van de Caspir cursus\, van 18.00 tot 20.30 uur bij Saltro. In deze cursus wordt de theorie opgefrist\, casuïstiek besproken en is er ruimte voor vragen en knelpunten. De deelnemer dient een eigen casus op USB-stick mee te nemen. \nKlik hier voor de eisen (her)certificering Caspir. \nDe kosten voor HUS-leden deelnemend aan het collectieve COPD-contract via HUS zijn € 82\,50 per deelnemer. Voor HUS-leden niet deelnemend aan het collectieve COPD-contract via HUS en overigen zijn de kosten € 165. \nAanmelden via huizer@5.255.70.205/~huisartsen.
URL:https://huisartsenutrechtstad.nl/event/herhalingsmodule-caspir/
LOCATION:Saltro\, Mississippidreef 83\, Utrecht\, 3565 CE\, Nederland
CATEGORIES:Nascholing
ORGANIZER;CN="HUS  Academie":MAILTO:academie@huisartsenutrechtstad.nl
END:VEVENT
END:VCALENDAR